BEGIN:VCALENDAR
VERSION:2.0
PRODID:-//Shane Raman - ECPv6.15.11//NONSGML v1.0//EN
CALSCALE:GREGORIAN
METHOD:PUBLISH
X-WR-CALNAME:Shane Raman
X-ORIGINAL-URL:https://shaneraman.ca
X-WR-CALDESC:Events for Shane Raman
REFRESH-INTERVAL;VALUE=DURATION:PT1H
X-Robots-Tag:noindex
X-PUBLISHED-TTL:PT1H
BEGIN:VTIMEZONE
TZID:America/Vancouver
BEGIN:DAYLIGHT
TZOFFSETFROM:-0800
TZOFFSETTO:-0700
TZNAME:PDT
DTSTART:20240310T100000
END:DAYLIGHT
BEGIN:STANDARD
TZOFFSETFROM:-0700
TZOFFSETTO:-0800
TZNAME:PST
DTSTART:20241103T090000
END:STANDARD
BEGIN:DAYLIGHT
TZOFFSETFROM:-0800
TZOFFSETTO:-0700
TZNAME:PDT
DTSTART:20250309T100000
END:DAYLIGHT
BEGIN:STANDARD
TZOFFSETFROM:-0700
TZOFFSETTO:-0800
TZNAME:PST
DTSTART:20251102T090000
END:STANDARD
BEGIN:DAYLIGHT
TZOFFSETFROM:-0800
TZOFFSETTO:-0700
TZNAME:PDT
DTSTART:20260308T100000
END:DAYLIGHT
BEGIN:STANDARD
TZOFFSETFROM:-0700
TZOFFSETTO:-0800
TZNAME:PST
DTSTART:20261101T090000
END:STANDARD
END:VTIMEZONE
BEGIN:VEVENT
DTSTART;TZID=America/Vancouver:20251222T190000
DTEND;TZID=America/Vancouver:20251222T220000
DTSTAMP:20260419T064206
CREATED:20251202T205218Z
LAST-MODIFIED:20251202T205633Z
UID:2168-1766430000-1766440800@shaneraman.ca
SUMMARY:The Tenors
DESCRIPTION:Shane Raman will be singing in the backup choir with colleagues in the Vancouver Bach Family of Choirs\, conducted by Cathrie Yuen.
URL:https://shaneraman.ca/event/the-tenors/
LOCATION:River Rock Casino Resort\, 8811 River Rd\, Vancouver\, British Columbia\, V6X 3P8\, Canada
ATTACH;FMTTYPE=image/webp:https://shaneraman.ca/wp-content/uploads/2025/12/The_Tenors_Banner-1.webp
END:VEVENT
BEGIN:VEVENT
DTSTART;TZID=America/Vancouver:20251220T200000
DTEND;TZID=America/Vancouver:20251220T220000
DTSTAMP:20260419T064206
CREATED:20251114T213358Z
LAST-MODIFIED:20251114T213358Z
UID:2142-1766260800-1766268000@shaneraman.ca
SUMMARY:All Aboard for Christmas
DESCRIPTION:The evening opens with the sparkling brilliance of Laura Nobili’s Overture\, setting the stage for Handel’s elegant Harp Concerto in B-flat\, Op. 4 No. 6\, brought to life by acclaimed harpist Rita Costanzi* with grace and poise. She returns for Samuel Rousseau’s Pastoral Variations\, a lyrical and evocative gem that showcases her exquisite artistry. Vaughan Williams’ English Folk Song Suite (final movement) bursts with rustic charm\, while Prokofiev’s Troika whisks us into a brisk Russian sleigh ride. Strauss’s lively Tritsch-Tratsch-Polka follows\, adding spirited Viennese flair before the Vancouver Bach Choir joins for The Polar Express\, capturing the wonder and magic of the season. The celebration concludes with Leroy Anderson’s beloved A Christmas Festival and a joyful selection of carols\, bringing the evening to a radiant\, heartwarming close. \nBryan Deans and Nicholas Urquhart\, Associate Conductors \nRita Costanzi\, Harp soloist \nVancouver Bach Choir \nAdmission to our concerts is by donation. \nBook your tickets at our Eventbrite page HERE
URL:https://shaneraman.ca/event/all-aboard-for-christmas/
LOCATION:Christ Church Cathedral\, 690 Burrard Street\, Vancouver\, British Columbia\, V6C 2L1\, Canada
ATTACH;FMTTYPE=image/jpeg:https://shaneraman.ca/wp-content/uploads/2025/11/https___cdn.evbuc_.com_images_1093218483_174716119256_1_original.jpg
END:VEVENT
BEGIN:VEVENT
DTSTART;TZID=America/Vancouver:20251220T140000
DTEND;TZID=America/Vancouver:20251220T153000
DTSTAMP:20260419T064206
CREATED:20251202T204150Z
LAST-MODIFIED:20251202T204750Z
UID:2159-1766239200-1766244600@shaneraman.ca
SUMMARY:Christmas Reprise XXII at Holy Rosary Cathedral
DESCRIPTION:Performances include VCS performing Shane Raman’s arrangement of When A Child Is Born. \n“We are thrilled to present Christmas Reprise XXII! Join the Vancouver Cantata Singers in this popular concert of traditional carols and contemporary Christmas compositions filling the resonant space of Holy Rosary Cathedral. In the bustle of the holiday season\, let the beauty of a cappella singing calm your spirit and transport your soul as the choir sings favourites including Miles Ramsay’s It Came Upon A Midnight Clear\, Franz Biebl’s Ave Maria\, and the premiere of a brand new arrangement of I Wash My Face In A Golden Vase by Sophia Colpitts\, commissioned by the Vancouver Cantata Singers.”
URL:https://shaneraman.ca/event/christmas-reprise-xxii-at-holy-rosary-cathedral/
LOCATION:Holy Rosary Cathedral Vancouver\, 646 Richards Street\, Vancouver\, British Columbia\, V6B\, Canada
ATTACH;FMTTYPE=image/jpeg:https://shaneraman.ca/wp-content/uploads/2025/12/https___cdn.evbuc_.com_images_1022680293_208921922445_1_original.jpg
END:VEVENT
BEGIN:VEVENT
DTSTART;TZID=America/Vancouver:20251218T190000
DTEND;TZID=America/Vancouver:20251218T220000
DTSTAMP:20260419T064206
CREATED:20251114T212617Z
LAST-MODIFIED:20251114T214210Z
UID:2135-1766084400-1766095200@shaneraman.ca
SUMMARY:Home Alone in Concert
DESCRIPTION:Back by popular demand! This beloved holiday classic features renowned composer John Williams’ charming and delightful score performed live to picture by the VSO. Get your tickets early! Home Alone™ in Concert has become a seasonal favourite with Vancouver audiences and sells out every season. \n© 1990 Twentieth Century Fox
URL:https://shaneraman.ca/event/home-alone-in-concert-2/
LOCATION:Orpheum\, 601 Smithe Street\, Vancouver\, British Columbia\, V6B 3L4\, Canada
ATTACH;FMTTYPE=image/webp:https://shaneraman.ca/wp-content/uploads/2022/11/Home-Alone.webp
END:VEVENT
BEGIN:VEVENT
DTSTART;TZID=America/Vancouver:20251217T190000
DTEND;TZID=America/Vancouver:20251217T220000
DTSTAMP:20260419T064206
CREATED:20251114T212448Z
LAST-MODIFIED:20251114T212705Z
UID:2133-1765998000-1766008800@shaneraman.ca
SUMMARY:Home Alone in Concert
DESCRIPTION:Back by popular demand! This beloved holiday classic features renowned composer John Williams’ charming and delightful score performed live to picture by the VSO. Get your tickets early! Home Alone™ in Concert has become a seasonal favourite with Vancouver audiences and sells out every season. \n© 1990 Twentieth Century Fox
URL:https://shaneraman.ca/event/home-alone-in-concert/
LOCATION:Orpheum\, 601 Smithe Street\, Vancouver\, British Columbia\, V6B 3L4\, Canada
ATTACH;FMTTYPE=image/webp:https://shaneraman.ca/wp-content/uploads/2022/11/Home-Alone.webp
END:VEVENT
BEGIN:VEVENT
DTSTART;TZID=America/Vancouver:20251207T140000
DTEND;TZID=America/Vancouver:20251207T170000
DTSTAMP:20260419T064206
CREATED:20251114T212929Z
LAST-MODIFIED:20251114T212929Z
UID:2139-1765116000-1765126800@shaneraman.ca
SUMMARY:Christmas with the Bach Choir
DESCRIPTION:Celebrate the holiday season and join the whole family of choirs for a festive choral event featuring performances from all nine of the Vancouver Bach Family of Choirs. On December 7th at 2pm\, we’ll be welcoming back organist Michael Dirk as well as the Touch of Brass Quintet to amplify the holiday magic at the Orpheum! \nA diverse choral program along with an audience singalong promises a wonderful winter afternoon of music and merriment. Whatever your holiday traditions are\, CWBC is a welcoming event sure to warm hearts and spirits in the grand Orpheum Theatre. \nFEATURING \nLeslie Dala | Conductor \nMarisa Gaetanne | Conductor \nCathrie Yuen | Conductor \nShane Raman | Conductor \nCatherine Campolin | Conductor \nStephen Smith | Piano \nKin Ming Wong | Piano \nShifra Day | Piano \nJeon Mok | Piano \nAslan Aslanov | Piano \n… and special guests: \nMichael Dirk | Organist \nTouch of Brass Quintet
URL:https://shaneraman.ca/event/christmas-with-the-bach-choir/
LOCATION:Orpheum\, 601 Smithe Street\, Vancouver\, British Columbia\, V6B 3L4\, Canada
ATTACH;FMTTYPE=image/webp:https://shaneraman.ca/wp-content/uploads/2025/11/CWBC-banner.webp
END:VEVENT
END:VCALENDAR